BEGIN:VCALENDAR
VERSION:2.0
PRODID:-//Squarespace Inc/Squarespace 6//v6//EN
BEGIN:VEVENT
UID:57e79a2ecd0f68ae05ec0f9b@squarespace.com
DTSTAMP:20161022T062536Z
DTSTART:20161025T054500Z
DTEND:20161025T071500Z
SUMMARY:KAP Committee Meeting - October
GEO:-36.877382;174.749842
LOCATION:Kids at Play\, 6 Bellwood Avenue\, Mt Eden\, Auckland\, 1024\, New 
 Zealand
END:VEVENT
END:VCALENDAR
