BEGIN:VCALENDAR
VERSION:2.0
PRODID:-//Squarespace Inc/Squarespace 6//v6//EN
BEGIN:VEVENT
UID:580b06c4bebafb59fd84f7dd@squarespace.com
DTSTAMP:20161120T215102Z
DTSTART:20161225T174500Z
DTEND:20170116T174500Z
SUMMARY:Christmas Close Down Period
END:VEVENT
END:VCALENDAR
