BEGIN:VCALENDAR
VERSION:2.0
PRODID:-//Squarespace Inc/Squarespace 6//v6//EN
BEGIN:VEVENT
UID:580b066d59cc687268d93d89@squarespace.com
DTSTAMP:20161121T021244Z
DTSTART:20161209T004500Z
DTEND:20161209T030000Z
SUMMARY:KAP 2016 Children's Christmas Party... Carols by Day...care
GEO:-36.877382;174.749842
LOCATION:Kids at Play\, 6 Bellwood Avenue\, Mt Eden\, Auckland\, 1024\, New 
 Zealand
END:VEVENT
END:VCALENDAR
