BEGIN:VCALENDAR
VERSION:2.0
PRODID:-//Squarespace Inc/Squarespace 6//v6//EN
BEGIN:VEVENT
UID:59e7bfe6017db2c9f6078996@squarespace.com
DTSTAMP:20171018T223906Z
DTSTART:20171103T184500Z
DTEND:20171103T214500Z
SUMMARY:Centre Working Bee
END:VEVENT
END:VCALENDAR
