BEGIN:VCALENDAR
VERSION:2.0
PRODID:-//Squarespace Inc/Squarespace 6//v6//EN
BEGIN:VEVENT
UID:59e7c070a8b2b095fcd57bc7@squarespace.com
DTSTAMP:20180121T225536Z
DTSTART:20180213T054500Z
DTEND:20180213T071500Z
SUMMARY:KAP GOVERNANCE PARENT COMMITTEE MEETING
END:VEVENT
END:VCALENDAR
