BEGIN:VCALENDAR
VERSION:2.0
PRODID:-//Squarespace Inc/Squarespace 6//v6//EN
BEGIN:VEVENT
UID:59c03f9c268b968ae09ff77e@squarespace.com
DTSTAMP:20170918T220920Z
DTSTART:20171003T054500Z
DTEND:20171003T071500Z
SUMMARY:PARENT/TEACHER EVENING
END:VEVENT
END:VCALENDAR
