BEGIN:VCALENDAR
VERSION:2.0
PRODID:-//Squarespace Inc/Squarespace 6//v6//EN
BEGIN:VEVENT
UID:58eae59f15d5dbf58cd6db29@squarespace.com
DTSTAMP:20170918T223235Z
DTSTART:20171224T174500Z
DTEND:20180115T174500Z
SUMMARY:Christmas Close Down Period
END:VEVENT
END:VCALENDAR
