BEGIN:VCALENDAR
VERSION:2.0
PRODID:-//Squarespace Inc/Squarespace 6//v6//EN
BEGIN:VEVENT
UID:59c0401ecd39c3d49bfebbe5@squarespace.com
DTSTAMP:20170918T221033Z
DTSTART:20171208T004500Z
DTEND:20171208T024500Z
SUMMARY:CENTRE CHRISTMAS PARTY
END:VEVENT
END:VCALENDAR
