BEGIN:VCALENDAR
VERSION:2.0
PRODID:-//Squarespace Inc/Squarespace 6//v6//EN
BEGIN:VEVENT
UID:58c1b44ec534a59cc492b9c2@squarespace.com
DTSTAMP:20170309T200211Z
DTSTART:20170319T021500Z
DTEND:20170319T044500Z
SUMMARY:Fish and Chips Night
END:VEVENT
END:VCALENDAR
