BEGIN:VCALENDAR
VERSION:2.0
PRODID:-//Squarespace Inc/Squarespace 6//v6//EN
BEGIN:VEVENT
UID:5912738937c581ac7fb22ba2@squarespace.com
DTSTAMP:20170510T020542Z
DTSTART:20170614T064500Z
DTEND:20170614T084500Z
SUMMARY:KAP Mix & Mingle Night
END:VEVENT
END:VCALENDAR
