BEGIN:VCALENDAR
VERSION:2.0
PRODID:-//Squarespace Inc/Squarespace 6//v6//EN
BEGIN:VEVENT
UID:59c0423aedaed886972103a3@squarespace.com
DTSTAMP:20170918T220912Z
DTSTART:20170919T064500Z
DTEND:20170919T074500Z
SUMMARY:KAP GOVERNANCE PARENT COMMITTEE MEETING
END:VEVENT
END:VCALENDAR
