BEGIN:VCALENDAR
VERSION:2.0
PRODID:-//Squarespace Inc/Squarespace 6//v6//EN
BEGIN:VEVENT
UID:5b7375364fa51a1e232dcb18@squarespace.com
DTSTAMP:20180815T005332Z
DTSTART:20180810T014500Z
DTEND:20180810T024500Z
SUMMARY:Play-ball (sport & movement programme)
END:VEVENT
END:VCALENDAR
