BEGIN:VCALENDAR
VERSION:2.0
PRODID:-//Squarespace Inc/Squarespace 6//v6//EN
BEGIN:VEVENT
UID:5b73799b2b6a285941e215cf@squarespace.com
DTSTAMP:20180815T005452Z
DTSTART:20180817T014500Z
DTEND:20180817T024500Z
SUMMARY:Play-ball (Sport & Movement Programme)
END:VEVENT
END:VCALENDAR
