BEGIN:VCALENDAR
VERSION:2.0
PRODID:-//Squarespace Inc/Squarespace 6//v6//EN
BEGIN:VEVENT
UID:5b7379e6575d1f627e5a733d@squarespace.com
DTSTAMP:20180815T005606Z
DTSTART:20180824T014500Z
DTEND:20180824T024500Z
SUMMARY:Play- ball (Sport & Movement Programme)
END:VEVENT
END:VCALENDAR
