BEGIN:VCALENDAR
VERSION:2.0
PRODID:-//Squarespace Inc/Squarespace 6//v6//EN
BEGIN:VEVENT
UID:5b7373494fa51a1e232db63a@squarespace.com
DTSTAMP:20180815T003450Z
DTSTART:20180830T211500Z
DTEND:20180830T221500Z
SUMMARY:Creative Souls - Music session
END:VEVENT
END:VCALENDAR
