BEGIN:VCALENDAR
VERSION:2.0
PRODID:-//Squarespace Inc/Squarespace 6//v6//EN
BEGIN:VEVENT
UID:5b737ae421c67ccd6208d133@squarespace.com
DTSTAMP:20180815T005959Z
DTSTART:20180831T014500Z
DTEND:20180831T024500Z
SUMMARY:Play-ball (Sport & Movement Programme)
END:VEVENT
END:VCALENDAR
