BEGIN:VCALENDAR
VERSION:2.0
PRODID:-//Squarespace Inc/Squarespace 6//v6//EN
BEGIN:VEVENT
UID:5b7378332b6a285941e205dd@squarespace.com
DTSTAMP:20180815T005112Z
DTSTART:20180807T064500Z
DTEND:20180807T084500Z
SUMMARY:Parent/Teacher eveing
END:VEVENT
END:VCALENDAR
