BEGIN:VCALENDAR
VERSION:2.0
PRODID:-//Squarespace Inc/Squarespace 6//v6//EN
BEGIN:VEVENT
UID:5b737b4540ec9a45a954a38c@squarespace.com
DTSTAMP:20180815T010136Z
DTSTART:20180901T171500Z
DTEND:20180901T181500Z
SUMMARY:Father's Day
END:VEVENT
END:VCALENDAR
