BEGIN:VCALENDAR
VERSION:2.0
PRODID:-//Squarespace Inc/Squarespace 6//v6//EN
BEGIN:VEVENT
UID:5b737b79aa4a99b17022745a@squarespace.com
DTSTAMP:20180815T010706Z
DTSTART:20180903T064500Z
DTEND:20180903T084500Z
SUMMARY:Citizen Park Pub Quiz 
END:VEVENT
END:VCALENDAR
